BEGIN:VCALENDAR
VERSION:2.0
PRODID:-//LIVMEDIA - ECPv6.15.19//NONSGML v1.0//EN
CALSCALE:GREGORIAN
METHOD:PUBLISH
X-WR-CALNAME:LIVMEDIA
X-ORIGINAL-URL:https://livmedia.com.au
X-WR-CALDESC:Events for LIVMEDIA
REFRESH-INTERVAL;VALUE=DURATION:PT1H
X-Robots-Tag:noindex
X-PUBLISHED-TTL:PT1H
BEGIN:VTIMEZONE
TZID:Australia/Sydney
BEGIN:STANDARD
TZOFFSETFROM:+1100
TZOFFSETTO:+1000
TZNAME:AEST
DTSTART:20230401T160000
END:STANDARD
BEGIN:DAYLIGHT
TZOFFSETFROM:+1000
TZOFFSETTO:+1100
TZNAME:AEDT
DTSTART:20230930T160000
END:DAYLIGHT
BEGIN:STANDARD
TZOFFSETFROM:+1100
TZOFFSETTO:+1000
TZNAME:AEST
DTSTART:20240406T160000
END:STANDARD
BEGIN:DAYLIGHT
TZOFFSETFROM:+1000
TZOFFSETTO:+1100
TZNAME:AEDT
DTSTART:20241005T160000
END:DAYLIGHT
BEGIN:STANDARD
TZOFFSETFROM:+1100
TZOFFSETTO:+1000
TZNAME:AEST
DTSTART:20250405T160000
END:STANDARD
BEGIN:DAYLIGHT
TZOFFSETFROM:+1000
TZOFFSETTO:+1100
TZNAME:AEDT
DTSTART:20251004T160000
END:DAYLIGHT
END:VTIMEZONE
BEGIN:VEVENT
DTSTART;TZID=Australia/Sydney:20240522T091500
DTEND;TZID=Australia/Sydney:20240522T130000
DTSTAMP:20260425T225042
CREATED:20240502T030026Z
LAST-MODIFIED:20240502T030026Z
UID:1493-1716369300-1716382800@livmedia.com.au
SUMMARY:Learn life-saving skills with safeTALK
DESCRIPTION:Most people with thoughts of suicide don’t truly want to die\, but are struggling with the pain in their lives. Through their words and actions\, they invite help to stay alive. safeTALK-trained helpers can recognise these invitations and take action by connecting them with life-saving intervention resources.
URL:https://livmedia.com.au/event/learn-life-saving-skills-with-safetalk/
END:VEVENT
BEGIN:VEVENT
DTSTART;TZID=Australia/Sydney:20240516T090000
DTEND;TZID=Australia/Sydney:20240517T163000
DTSTAMP:20260425T225042
CREATED:20240313T033503Z
LAST-MODIFIED:20240313T033503Z
UID:1421-1715850000-1715963400@livmedia.com.au
SUMMARY:ASIST - Applied Suicide Intervention Skills Training
DESCRIPTION:Muswellbrook Shire Council Library\n126 Bridge Street\nMuswellbrook\, Muswellbrook NSW 2333\nAustralia
URL:https://livmedia.com.au/event/asist-applied-suicide-intervention-skills-training/
END:VEVENT
BEGIN:VEVENT
DTSTART;TZID=Australia/Sydney:20240503T090000
DTEND;TZID=Australia/Sydney:20240503T113000
DTSTAMP:20260425T225042
CREATED:20240320T233847Z
LAST-MODIFIED:20240320T233847Z
UID:1423-1714726800-1714735800@livmedia.com.au
SUMMARY:Free – Set Up For Success Interactive Business Workshop
DESCRIPTION:Delivered by expert in the field\, Paul Keaton of PKF Accounting\, we will explore financial literacy and how this can be applied to your business\, as well as boosting our local economy and smart business structuring. \n9am-11:30am Friday 3 May 2024 \nHeld at TAFE NSW Scone\, 26 Main Street\nIncludes morning tea \nRegistration Essential:  https://form.jotform.com/Scone_Chamber/2024-may-3-set-up-for-success
URL:https://livmedia.com.au/event/free-set-up-for-success-interactive-business-workshop/
END:VEVENT
BEGIN:VEVENT
DTSTART;TZID=Australia/Sydney:20240502T080000
DTEND;TZID=Australia/Sydney:20240503T163000
DTSTAMP:20260425T225042
CREATED:20240313T032605Z
LAST-MODIFIED:20240313T032605Z
UID:1420-1714636800-1714753800@livmedia.com.au
SUMMARY:Mental Health First Aid
DESCRIPTION:Quest Singleton 5-7 Civic Avenue Singleton NSW 2330 Australia
URL:https://livmedia.com.au/event/mental-health-first-aid-2/
END:VEVENT
BEGIN:VEVENT
DTSTART;TZID=Australia/Sydney:20240430T173000
DTEND;TZID=Australia/Sydney:20240430T190000
DTSTAMP:20260425T225042
CREATED:20240320T234212Z
LAST-MODIFIED:20240320T234212Z
UID:1430-1714498200-1714503600@livmedia.com.au
SUMMARY:Free – Lap of Luxury Casual Networking Evening
DESCRIPTION:An excellent opportunity to hear The Barn’s founding story and business journey as well as experience the elegance of this facility for your clients\, family and friends. Just 20 mins out of town. \nThe Barn Scone\, 610 Waverley Road\, Gundy \nTuesday 30 April 2024\n5:30pm – 7:00pm \nRegistration is essential for catering: https://form.jotform.com/Scone_Chamber/2024-april-30-women-in-business 
URL:https://livmedia.com.au/event/free-lap-of-luxury-casual-networking-evening/
END:VEVENT
BEGIN:VEVENT
DTSTART;TZID=Australia/Sydney:20240411T090000
DTEND;TZID=Australia/Sydney:20240411T163000
DTSTAMP:20260425T225042
CREATED:20240313T031742Z
LAST-MODIFIED:20240313T031742Z
UID:1417-1712826000-1712853000@livmedia.com.au
SUMMARY:Accidental Counsellor Foundations
DESCRIPTION:Muswellbrook Shire Council Library\n126 Bridge Street\nMuswellbrook\, Muswellbrook NSW 2333\nAustralia
URL:https://livmedia.com.au/event/accidental-counsellor-foundations-2/
END:VEVENT
BEGIN:VEVENT
DTSTART;TZID=Australia/Sydney:20240405T090000
DTEND;TZID=Australia/Sydney:20240405T113000
DTSTAMP:20260425T225042
CREATED:20240320T053218Z
LAST-MODIFIED:20240320T053218Z
UID:1422-1712307600-1712316600@livmedia.com.au
SUMMARY:Free - Cyber Security Interactive Business Workshop
DESCRIPTION:Delivered by expert in the field\, David Crough of nbn Co\, we will explore cyber security and what you can implement to keep your business safe and well as streamlining connectivity and business internet solutions.\n9am-11:30am Friday 5 April 2024 \nHeld at Scone Motor Inn Conference Centre\nIncludes morning tea \nRegistration Essential:  https://form.jotform.com/Scone_Chamber/2024-april-5-cyber-security
URL:https://livmedia.com.au/event/cyber-security-interactive-business-workshop/
END:VEVENT
BEGIN:VEVENT
DTSTART;TZID=Australia/Sydney:20240321T090000
DTEND;TZID=Australia/Sydney:20240321T163000
DTSTAMP:20260425T225042
CREATED:20240313T031443Z
LAST-MODIFIED:20240313T031443Z
UID:1416-1711011600-1711038600@livmedia.com.au
SUMMARY:Accidental Counsellor Foundations
DESCRIPTION:    \n\nQuest Singleton\n5-7 Civic Avenue\nSingleton NSW 2330\nAustralia
URL:https://livmedia.com.au/event/accidental-counsellor-foundations/
END:VEVENT
BEGIN:VEVENT
DTSTART;TZID=Australia/Sydney:20240314T090000
DTEND;TZID=Australia/Sydney:20240314T130000
DTSTAMP:20260425T225042
CREATED:20240227T021119Z
LAST-MODIFIED:20240227T021119Z
UID:1415-1710406800-1710421200@livmedia.com.au
SUMMARY:Singleton Explore Women’s Wellness
DESCRIPTION:Singleton Explore Women’s Wellness event is being held on the 14 March 2024 at the Singleton Civic Centre. The event has special guest Jean Kittson AM as well as a panel of health experts discussing Menopause\, Osteoporosis\, Nutrition and Exercise and will be catered by Singleton High School. \nThe event is ticketed and you can get free tickets at Singleton Explore Women’s Wellness Tickets\, Thu 14/03/2024 at 9:00 am | Eventbrite \nFor more information you can visit Singleton Explore Women’s Wellness | Singleton Council (nsw.gov.au)
URL:https://livmedia.com.au/event/singleton-explore-womens-wellness/
END:VEVENT
BEGIN:VEVENT
DTSTART;TZID=Australia/Sydney:20240306T170000
DTEND;TZID=Australia/Sydney:20240306T200000
DTSTAMP:20260425T225042
CREATED:20240222T060704Z
LAST-MODIFIED:20240222T060704Z
UID:1412-1709744400-1709755200@livmedia.com.au
SUMMARY:Future Sites: Imagining A New Hunter Valley
DESCRIPTION:On behalf of The School of Architecture and Built Environment at the University of Newcastle\, we are delighted to extend an invitation to ‘Future Sites: Imagining a New Hunter Valley’. A panel discussion and exhibition launch event\, held at the STEM Innovation Lab\, Donald Horne Building\, 140 Bridge St\, Muswellbrook\, on Wednesday March 6th from 5pm – 8pm.  \n\n\nThis event brings together local stakeholders\, experts\, and community members to engage with innovative projects by University of Newcastle Architecture students. These projects reimagine the future of mining sites and their surrounding landscapes\, addressing the transition from extractive industries to sustainable energy futures in Australia. Focused on the closure of Mount Arthur mine\, the exhibition serves as a catalyst for discussions about the Hunter Valley at large.   \n\n\nThrough collaborative dialogue and presentations\, our goal is to inspire stakeholders and communities to participate in envisioning alternative prospects for the region. The panel will explore possibilities for a vibrant and enduring future for the Hunter Valley prompted by student proposals\, asking: What does this future entail?  \n\n\nPlease join us for the exhibition launch and light refreshments from 5pm in the foyer of the Donald Horne Building\, which will lead into the panel discussion at 6:30pm in the STEM Innovation Lab.  \nFor more details\, and event registration please head to our Eventbrite.  \nWe look forward to seeing you there.
URL:https://livmedia.com.au/event/1332/
END:VEVENT
BEGIN:VEVENT
DTSTART;TZID=Australia/Sydney:20240302T090000
DTEND;TZID=Australia/Sydney:20240302T140000
DTSTAMP:20260425T225042
CREATED:20240222T060852Z
LAST-MODIFIED:20240222T060852Z
UID:1413-1709370000-1709388000@livmedia.com.au
SUMMARY:Girls Day Out Program - Taking on Muswellbrook
DESCRIPTION:The Girls Day Out Program is a fun day for girls aged 5-16 years to come and try a new sport\, meet their sporting heroes\, and make new friends! \nOn Saturday 2nd March the program is heading to Olympic Park from 9am – 2pm where you can try some of the following sports: \n\nRugby League with the Newcastle Knights\nFootball (Soccer) with leading Premier League Women players\nCheerleading with All Star Coaches\nAFL with the Sydney Swans\nNetball with Hunter Netball players\n\nClinics are only $5 per sport and are jam-packed full of fun! Each child will receive a tote bag at check in with awesome goodies from our sponsors. \nA huge thank you to NSW Mining for powering this event and supporting young girls participating in sports in the Muswellbrook community. \nTickets are on sale via our website from 7pm on 16th of February – grab a friend & book yours now. \nwww.girlsdayout.com.au
URL:https://livmedia.com.au/event/girls-day-out-program-taking-on-muswellbrook/
END:VEVENT
BEGIN:VEVENT
DTSTART;TZID=Australia/Sydney:20240221T000000
DTEND;TZID=Australia/Sydney:20240222T235959
DTSTAMP:20260425T225042
CREATED:20240208T062457Z
LAST-MODIFIED:20240208T062457Z
UID:1079-1708473600-1708646399@livmedia.com.au
SUMMARY:2024 Hunter New Energy Symposium
DESCRIPTION:With the Hunter emerging as a new energy\, research\, and innovation powerhouse\, NewH2\, The Hunter Hydrogen Technology Cluster\, and HunterNet are excited to be hosting the new-look Hunter New Energy Symposium in Newcastle on the 21-22 February 2024.  \nThe symposium will bring together leaders across government\, industry\, academia\, and capital markets to: \n\nTake a deep dive into the diverse range of new energy opportunities in the region\nDiscuss topics that are driving the region toward realising a successful new energy future\nShowcase significant projects\, investments\, and initiatives that are supporting greater economic growth\, industry collaboration\, research and innovation\, and increased public and private investment across the broader new energy ecosystem.  \n\nThe Symposium will commence from 8am on Wednesday 21 February at Newcastle City Town Hall and will close on Thursday February 22 at 4pm\, with an Industry Dinner event to follow from 6pm – 10pm. Both days will feature speaker sessions delivered by industry thought leaders and representatives engaged in new energy focused policy\, projects\, technologies\, and opportunities.
URL:https://livmedia.com.au/event/2024-hunter-new-energy-symposium/
END:VEVENT
END:VCALENDAR